BEGIN:VCALENDAR
VERSION:2.0
PRODID:-//Elwell Corporation - ECPv6.15.20//NONSGML v1.0//EN
CALSCALE:GREGORIAN
METHOD:PUBLISH
X-WR-CALNAME:Elwell Corporation
X-ORIGINAL-URL:https://elwellcorp.com
X-WR-CALDESC:Events for Elwell Corporation
REFRESH-INTERVAL;VALUE=DURATION:PT1H
X-Robots-Tag:noindex
X-PUBLISHED-TTL:PT1H
BEGIN:VTIMEZONE
TZID:UTC
BEGIN:STANDARD
TZOFFSETFROM:+0000
TZOFFSETTO:+0000
TZNAME:UTC
DTSTART:20220101T000000
END:STANDARD
END:VTIMEZONE
BEGIN:VEVENT
DTSTART;VALUE=DATE:20230707
DTEND;VALUE=DATE:20230710
DTSTAMP:20260426T021249
CREATED:20230104T215711Z
LAST-MODIFIED:20230108T000811Z
UID:5644-1688688000-1688947199@elwellcorp.com
SUMMARY:Overland Expo PNW
DESCRIPTION:Timberline and Autoterm are coming to the Overland Expo PNW in Redmond\, OR. Overland Expo® is the premier overlanding event series in the world—no other event offers the scope of classes taught by the world’s leading experts alongside a professional-level trade show that brings together all the camping and vehicle and motorcycle equipment and services you need to Get Outfitted. Get Trained. Get Inspired. Get Going.
URL:https://elwellcorp.com/event/overland-expo-pnw/
LOCATION:Deschutes County Fair & Expo Center\, 3800 SE Airport Way\, Redmond\, OR\, 97756\, United States
END:VEVENT
END:VCALENDAR