BEGIN:VCALENDAR
VERSION:2.0
PRODID:-//Elwell Corporation - ECPv6.15.20//NONSGML v1.0//EN
CALSCALE:GREGORIAN
METHOD:PUBLISH
X-ORIGINAL-URL:https://elwellcorp.com
X-WR-CALDESC:Events for Elwell Corporation
REFRESH-INTERVAL;VALUE=DURATION:PT1H
X-Robots-Tag:noindex
X-PUBLISHED-TTL:PT1H
BEGIN:VTIMEZONE
TZID:UTC
BEGIN:STANDARD
TZOFFSETFROM:+0000
TZOFFSETTO:+0000
TZNAME:UTC
DTSTART:20220101T000000
END:STANDARD
END:VTIMEZONE
BEGIN:VEVENT
DTSTART;VALUE=DATE:20230716
DTEND;VALUE=DATE:20230721
DTSTAMP:20260426T021519
CREATED:20230108T000605Z
LAST-MODIFIED:20230108T000726Z
UID:5651-1689465600-1689897599@elwellcorp.com
SUMMARY:WIT Grand National Rally
DESCRIPTION:Visit the Timberline booth at the Winnebago Grand National Rally. For over 50 years\, Winnebago has been welcoming owners home to Forest City\, Iowa for its annual gathering and celebration of Winnebago brand RVs. You will have the opportunity to meet Winnebago employees\, attend entertainment\, and enjoy educational seminars.
URL:https://elwellcorp.com/event/wit-grand-national-rally/
LOCATION:Winnebago Rally Grounds\, 1215 US-69\, Forest City\, IA\, 50436\, United States
END:VEVENT
END:VCALENDAR