BEGIN:VCALENDAR
VERSION:2.0
PRODID:-//Elwell Corporation - ECPv6.15.20//NONSGML v1.0//EN
CALSCALE:GREGORIAN
METHOD:PUBLISH
X-WR-CALNAME:Elwell Corporation
X-ORIGINAL-URL:https://elwellcorp.com
X-WR-CALDESC:Events for Elwell Corporation
REFRESH-INTERVAL;VALUE=DURATION:PT1H
X-Robots-Tag:noindex
X-PUBLISHED-TTL:PT1H
BEGIN:VTIMEZONE
TZID:UTC
BEGIN:STANDARD
TZOFFSETFROM:+0000
TZOFFSETTO:+0000
TZNAME:UTC
DTSTART:20220101T000000
END:STANDARD
END:VTIMEZONE
BEGIN:VEVENT
DTSTART;VALUE=DATE:20230825
DTEND;VALUE=DATE:20230828
DTSTAMP:20260426T003602
CREATED:20230108T035946Z
LAST-MODIFIED:20230108T035946Z
UID:5657-1692921600-1693180799@elwellcorp.com
SUMMARY:Overland Expo MTN West
DESCRIPTION:Visit the Timberline and Autoterm tents at Overland Expo MTN West this summer! Overland Expo MTN West offers more than 300 session-hours of incredible programs—that’s 150+ different classes\, slideshows\, demonstrations\, and activities—brought to you by 100+ instructors and presenters from around the world.
URL:https://elwellcorp.com/event/overland-expo-mtn-west-2/
LOCATION:The Ranch\, 5280 Arena Cir\, Loveland\, CO\, 80538\, United States
END:VEVENT
END:VCALENDAR