BEGIN:VCALENDAR
VERSION:2.0
PRODID:-//Elwell Corporation - ECPv6.15.20//NONSGML v1.0//EN
CALSCALE:GREGORIAN
METHOD:PUBLISH
X-WR-CALNAME:Elwell Corporation
X-ORIGINAL-URL:https://elwellcorp.com
X-WR-CALDESC:Events for Elwell Corporation
REFRESH-INTERVAL;VALUE=DURATION:PT1H
X-Robots-Tag:noindex
X-PUBLISHED-TTL:PT1H
BEGIN:VTIMEZONE
TZID:UTC
BEGIN:STANDARD
TZOFFSETFROM:+0000
TZOFFSETTO:+0000
TZNAME:UTC
DTSTART:20220101T000000
END:STANDARD
END:VTIMEZONE
BEGIN:VEVENT
DTSTART;VALUE=DATE:20230913
DTEND;VALUE=DATE:20230918
DTSTAMP:20260425T225210
CREATED:20220714T163516Z
LAST-MODIFIED:20230108T042013Z
UID:4991-1694563200-1694995199@elwellcorp.com
SUMMARY:Hershey RV Show
DESCRIPTION:Come and Visit the Timberline booth at the 2023 Hershey RV Show. See more than 1\,400 RVs from 40 manufacturers at the 54th Annual America’s Largest RV Show®\, September 13-17\, 2023 at the Giant Center in Hershey\, Pennsylvania. The show is THE place to shop and compare new RVs\, find the latest accessories\, upgrades\, campgrounds\, vacation destinations and related products.
URL:https://elwellcorp.com/event/hershey-rv-show/
LOCATION:Giant Center\, 550 W. Hersheypark Drive\, Hershey\, PA\, 17033\, United States
END:VEVENT
END:VCALENDAR