BEGIN:VCALENDAR
VERSION:2.0
PRODID:-//Elwell Corporation - ECPv6.15.20//NONSGML v1.0//EN
CALSCALE:GREGORIAN
METHOD:PUBLISH
X-ORIGINAL-URL:https://elwellcorp.com
X-WR-CALDESC:Events for Elwell Corporation
REFRESH-INTERVAL;VALUE=DURATION:PT1H
X-Robots-Tag:noindex
X-PUBLISHED-TTL:PT1H
BEGIN:VTIMEZONE
TZID:UTC
BEGIN:STANDARD
TZOFFSETFROM:+0000
TZOFFSETTO:+0000
TZNAME:UTC
DTSTART:20220101T000000
END:STANDARD
END:VTIMEZONE
BEGIN:VEVENT
DTSTART;VALUE=DATE:20231015
DTEND;VALUE=DATE:20231017
DTSTAMP:20260425T211105
CREATED:20230108T044002Z
LAST-MODIFIED:20230108T044002Z
UID:5670-1697328000-1697500799@elwellcorp.com
SUMMARY:Adventure Van Expo
DESCRIPTION:See Timberline and Autoterm at the last Adventure Van Expo of 2023. Join us for a family friendly weekend open to all ages celebrating the van life community and the opportunity to view an array of van vendors and overland products. \nIn addition to all of the great van builds the event will feature live music\, food and local brews all weekend long. And those looking to show off their custom builds are encouraged to sign up for the DYI Contest where they will have their rigs viewed by hundreds of event goers and rated by van build experts. \nLooking to buy or sell? Expect to find roof racks\, bumpers\, solar panels\, interior storage\, water filters\, window coverings\, beds\, bedding\, and 4×4 recovery items….and of course coffee cups\, t-shirts and more! \nAt this show we do not offer camping but are connecting you you with an event that is offering camping (we are only providing the link)
URL:https://elwellcorp.com/event/adventure-van-expo-9/
LOCATION:Big Bear Lake\, 630 Bartlett Road\, Big Bear\, CA\, 92314\, United States
END:VEVENT
END:VCALENDAR