BEGIN:VCALENDAR
VERSION:2.0
PRODID:-//Elwell Corporation - ECPv6.15.20//NONSGML v1.0//EN
CALSCALE:GREGORIAN
METHOD:PUBLISH
X-WR-CALNAME:Elwell Corporation
X-ORIGINAL-URL:https://elwellcorp.com
X-WR-CALDESC:Events for Elwell Corporation
REFRESH-INTERVAL;VALUE=DURATION:PT1H
X-Robots-Tag:noindex
X-PUBLISHED-TTL:PT1H
BEGIN:VTIMEZONE
TZID:UTC
BEGIN:STANDARD
TZOFFSETFROM:+0000
TZOFFSETTO:+0000
TZNAME:UTC
DTSTART:20220101T000000
END:STANDARD
END:VTIMEZONE
BEGIN:VEVENT
DTSTART;VALUE=DATE:20231031
DTEND;VALUE=DATE:20231104
DTSTAMP:20260425T192632
CREATED:20230104T000052Z
LAST-MODIFIED:20230104T184625Z
UID:5003-1698710400-1699055999@elwellcorp.com
SUMMARY:SEMA Show
DESCRIPTION:Timberline will be at the SEMA Show in Las Vegas this year! This trade-only event offers thousands of product innovations from new and iconic exhibitors\, the latest product and custom vehicle trends\, 70+ free professional skill-enhancing education sessions career-changing connections with peers\, leaders\, and celebrities at the industry’s most anticipated in-person networking event.
URL:https://elwellcorp.com/event/sema-show/
LOCATION:Las Vegas Convention Center\, 3150 Paradise Rd\, Las Vegas\, NV\, 89109\, United States
END:VEVENT
END:VCALENDAR