BEGIN:VCALENDAR
VERSION:2.0
PRODID:-//Elwell Corporation - ECPv6.15.20//NONSGML v1.0//EN
CALSCALE:GREGORIAN
METHOD:PUBLISH
X-WR-CALNAME:Elwell Corporation
X-ORIGINAL-URL:https://elwellcorp.com
X-WR-CALDESC:Events for Elwell Corporation
REFRESH-INTERVAL;VALUE=DURATION:PT1H
X-Robots-Tag:noindex
X-PUBLISHED-TTL:PT1H
BEGIN:VTIMEZONE
TZID:Europe/Berlin
BEGIN:DAYLIGHT
TZOFFSETFROM:+0100
TZOFFSETTO:+0200
TZNAME:CEST
DTSTART:20230326T010000
END:DAYLIGHT
BEGIN:STANDARD
TZOFFSETFROM:+0200
TZOFFSETTO:+0100
TZNAME:CET
DTSTART:20231029T010000
END:STANDARD
BEGIN:DAYLIGHT
TZOFFSETFROM:+0100
TZOFFSETTO:+0200
TZNAME:CEST
DTSTART:20240331T010000
END:DAYLIGHT
BEGIN:STANDARD
TZOFFSETFROM:+0200
TZOFFSETTO:+0100
TZNAME:CET
DTSTART:20241027T010000
END:STANDARD
BEGIN:DAYLIGHT
TZOFFSETFROM:+0100
TZOFFSETTO:+0200
TZNAME:CEST
DTSTART:20250330T010000
END:DAYLIGHT
BEGIN:STANDARD
TZOFFSETFROM:+0200
TZOFFSETTO:+0100
TZNAME:CET
DTSTART:20251026T010000
END:STANDARD
END:VTIMEZONE
BEGIN:VEVENT
DTSTART;TZID=Europe/Berlin:20240831T100000
DTEND;TZID=Europe/Berlin:20240908T180000
DTSTAMP:20260425T014913
CREATED:20240429T224647Z
LAST-MODIFIED:20240429T224819Z
UID:6110-1725098400-1725818400@elwellcorp.com
SUMMARY:Dusseldorf Caravan Salon
DESCRIPTION:Every year\, CARAVAN SALON turns Düsseldorf into the international capital of mobile leisure. Only here can you discover\, compare and buy motorhomes\, caravans and campervans in this variety. You can also experience vehicle technology\, components and add-on parts\, tents\, mobile homes\, caravanning and camping accessories\, outdoor equipment\, tourist destinations as well as camping and pitch offers. At the CARAVAN SALON you will find a selection that cannot be found anywhere else in the world.\nhttps://www.caravan-salon.com\n\n\n\nEvery year\, CARAVAN SALON turns Düsseldorf into the international capital of mobile leisure. Only here can you discover\, compare and buy motorhomes\, caravans and campervans in this variety. You can also experience vehicle technology\, components and add-on parts\, tents\, mobile homes\, caravanning and camping accessories\, outdoor equipment\, tourist destinations as well as camping and pitch offers. At the CARAVAN SALON you will find a selection that cannot be found anywhere else in the world.\n\n\n\nStop by the Timberline booth and see what’s new in 2024!\n\n\n\nhttps://www.caravan-salon.com
URL:https://elwellcorp.com/event/dusseldorf-caravan-salon/
LOCATION:Messe Düsseldorf\, Stockumer Kirchstraße 61\, Düsseldorf\, 40474\, Germany
END:VEVENT
END:VCALENDAR