BEGIN:VCALENDAR
VERSION:2.0
PRODID:-//Elwell Corporation - ECPv6.15.20//NONSGML v1.0//EN
CALSCALE:GREGORIAN
METHOD:PUBLISH
X-WR-CALNAME:Elwell Corporation
X-ORIGINAL-URL:https://elwellcorp.com
X-WR-CALDESC:Events for Elwell Corporation
REFRESH-INTERVAL;VALUE=DURATION:PT1H
X-Robots-Tag:noindex
X-PUBLISHED-TTL:PT1H
BEGIN:VTIMEZONE
TZID:UTC
BEGIN:STANDARD
TZOFFSETFROM:+0000
TZOFFSETTO:+0000
TZNAME:UTC
DTSTART:20250101T000000
END:STANDARD
END:VTIMEZONE
BEGIN:VEVENT
DTSTART;TZID=UTC:20260822T100000
DTEND;TZID=UTC:20260823T150000
DTSTAMP:20260423T235449
CREATED:20260227T192538Z
LAST-MODIFIED:20260227T192538Z
UID:7084-1787392800-1787497200@elwellcorp.com
SUMMARY:Adventure Van Expo - Enumclaw
DESCRIPTION:Come visit us at the Timberline and Autoterm booth at the Adventure Van Expo in Enumclaw\, WA! \nThe show will feature built-out Mercedes Sprinters (mostly) 4×4 rigs\, accessories\, and more. Come out and meet the builders\, network with vanlifers\, and check out all kinds of cool workmanship. Vendors will be set up with accessories to buy for your van or rig. Additionally talks will be given on topics like solar. \n  \nhttps://adventurevanexpo.com
URL:https://elwellcorp.com/event/adventure-van-expo-enumclaw/
LOCATION:Enumclaw Fairgrounds\, 45224 284th Ave SE\, Enumclaw\, WA\, 98022
END:VEVENT
END:VCALENDAR