BEGIN:VCALENDAR
VERSION:2.0
PRODID:-//Elwell Corporation - ECPv6.15.20//NONSGML v1.0//EN
CALSCALE:GREGORIAN
METHOD:PUBLISH
X-WR-CALNAME:Elwell Corporation
X-ORIGINAL-URL:https://elwellcorp.com
X-WR-CALDESC:Events for Elwell Corporation
REFRESH-INTERVAL;VALUE=DURATION:PT1H
X-Robots-Tag:noindex
X-PUBLISHED-TTL:PT1H
BEGIN:VTIMEZONE
TZID:UTC
BEGIN:STANDARD
TZOFFSETFROM:+0000
TZOFFSETTO:+0000
TZNAME:UTC
DTSTART:20220101T000000
END:STANDARD
END:VTIMEZONE
BEGIN:VTIMEZONE
TZID:America/Los_Angeles
BEGIN:DAYLIGHT
TZOFFSETFROM:-0800
TZOFFSETTO:-0700
TZNAME:PDT
DTSTART:20220313T100000
END:DAYLIGHT
BEGIN:STANDARD
TZOFFSETFROM:-0700
TZOFFSETTO:-0800
TZNAME:PST
DTSTART:20221106T090000
END:STANDARD
BEGIN:DAYLIGHT
TZOFFSETFROM:-0800
TZOFFSETTO:-0700
TZNAME:PDT
DTSTART:20230312T100000
END:DAYLIGHT
BEGIN:STANDARD
TZOFFSETFROM:-0700
TZOFFSETTO:-0800
TZNAME:PST
DTSTART:20231105T090000
END:STANDARD
BEGIN:DAYLIGHT
TZOFFSETFROM:-0800
TZOFFSETTO:-0700
TZNAME:PDT
DTSTART:20240310T100000
END:DAYLIGHT
BEGIN:STANDARD
TZOFFSETFROM:-0700
TZOFFSETTO:-0800
TZNAME:PST
DTSTART:20241103T090000
END:STANDARD
END:VTIMEZONE
BEGIN:VEVENT
DTSTART;VALUE=DATE:20230707
DTEND;VALUE=DATE:20230710
DTSTAMP:20260425T155925
CREATED:20230104T215711Z
LAST-MODIFIED:20230108T000811Z
UID:5644-1688688000-1688947199@elwellcorp.com
SUMMARY:Overland Expo PNW
DESCRIPTION:Timberline and Autoterm are coming to the Overland Expo PNW in Redmond\, OR. Overland Expo® is the premier overlanding event series in the world—no other event offers the scope of classes taught by the world’s leading experts alongside a professional-level trade show that brings together all the camping and vehicle and motorcycle equipment and services you need to Get Outfitted. Get Trained. Get Inspired. Get Going.
URL:https://elwellcorp.com/event/overland-expo-pnw/
LOCATION:Deschutes County Fair & Expo Center\, 3800 SE Airport Way\, Redmond\, OR\, 97756\, United States
END:VEVENT
BEGIN:VEVENT
DTSTART;VALUE=DATE:20230617
DTEND;VALUE=DATE:20230619
DTSTAMP:20260425T155925
CREATED:20230104T205647Z
LAST-MODIFIED:20230108T000825Z
UID:5635-1686960000-1687132799@elwellcorp.com
SUMMARY:Adventure Van Expo
DESCRIPTION:Timberline and Autoterm will be at the Adventure Van Expo in Hood River this summer! Join us June 17-18 for the Hood River Adventure Van Expo featuring everything from niche rigs and custom crafted vans to production models. The show will feature custom built-out Adventure Vans which can typically be found on the Mercedes Benz Sprinter platform and production models such as the Winnebago Revel. The weekend of van community activities are family friendly and open to all ages.
URL:https://elwellcorp.com/event/adventure-van-expo/
LOCATION:Hood River County Fairgrounds\, 3020 Wyeast Rd\, Hood River\, OR\, 97031\, United States
END:VEVENT
BEGIN:VEVENT
DTSTART;VALUE=DATE:20230610
DTEND;VALUE=DATE:20230612
DTSTAMP:20260425T155925
CREATED:20220713T054307Z
LAST-MODIFIED:20230104T201152Z
UID:4985-1686355200-1686527999@elwellcorp.com
SUMMARY:Adventure Van Expo
DESCRIPTION:Meet Timberline and Autoterm at the Adventure Van Expo in Hayward\, WI this summer. Come out and meet the builders\, network with Vanlifers\, check out all kinds of cool workmanship\, and learn something new.
URL:https://elwellcorp.com/event/adventure-van-expo-2/
LOCATION:Mt. Telemark Village\, 14875 Mcnaught Rd\,\, Cable\, WI\, 54821
END:VEVENT
BEGIN:VEVENT
DTSTART;VALUE=DATE:20230519
DTEND;VALUE=DATE:20230522
DTSTAMP:20260425T155925
CREATED:20230104T200652Z
LAST-MODIFIED:20230108T000850Z
UID:5629-1684454400-1684713599@elwellcorp.com
SUMMARY:Overland Expo West
DESCRIPTION:Stop by the Timberline and Autoterm tents at the Overland Expo West! Overland Expo® is the premier overlanding event series in the world—no other event offers the scope of classes taught by the world’s leading experts alongside a professional-level trade show that brings together all the camping and vehicle and motorcycle equipment and services you need to Get Outfitted. Get Trained. Get Inspired. Get Going.
URL:https://elwellcorp.com/event/overland-expo-west/
LOCATION:Fort Tuthill County Park\, 2446 Fort Tuthill Loop\, Flagstaff\, AZ\, 86005\, United States
END:VEVENT
BEGIN:VEVENT
DTSTART;VALUE=DATE:20230513
DTEND;VALUE=DATE:20230515
DTSTAMP:20260425T155925
CREATED:20220714T164402Z
LAST-MODIFIED:20230104T200149Z
UID:4994-1683936000-1684108799@elwellcorp.com
SUMMARY:Adventure Van Expo
DESCRIPTION:Come and see Autoterm and Timberline at the Adventure Van Expo at the Sonoma County Fairgrounds. Check out a full weekend of over 50 vendors including incredible van builds\, open house vans\, vans\, and more vans! The expo is family friendly and open to all ages! In addition to the vans you can find food\, local brews\, live music and more. PLUS this year there will be camping added to the show.
URL:https://elwellcorp.com/event/adventure-van-expo-3/
LOCATION:Sonoma County Fairgrounds\, 1350 Bennett Valley Rd\, Santa Rosa\, CA\, 95404
END:VEVENT
BEGIN:VEVENT
DTSTART;VALUE=DATE:20230429
DTEND;VALUE=DATE:20230501
DTSTAMP:20260425T155925
CREATED:20220714T165255Z
LAST-MODIFIED:20230108T041708Z
UID:5000-1682726400-1682899199@elwellcorp.com
SUMMARY:Adventure Van Expo
DESCRIPTION:Timberline and Autoterm will be at the Adventure Van Expos kick off in San Juan Capistrano\, CA this year! The show will feature built-out Mercedes Sprinters (mostly) 4×4 rigs\, accessories\, and more. Come out and meet the builders\, network with vanlifers and check out all kinds of cool workmanship.
URL:https://elwellcorp.com/event/adventure-van-expo-4/
LOCATION:Mission Viejo Riding Center\, 30753 Avenida La Pata\, San Juan Capistrano\, CA\, 92675\, United States
END:VEVENT
BEGIN:VEVENT
DTSTART;VALUE=DATE:20230330
DTEND;VALUE=DATE:20230402
DTSTAMP:20260425T155925
CREATED:20230104T214542Z
LAST-MODIFIED:20230108T000922Z
UID:5641-1680134400-1680393599@elwellcorp.com
SUMMARY:MATS
DESCRIPTION:Visit the Autoterm booth at the Mid-America Trucking show. Since 1972\, MATS has offered three days full of exhibits\, education\, entertainment\, and networking – all at the largest annual trucking event in the world. Experience the entire trucking industry at this three day event featuring 850+ Exhibitors!
URL:https://elwellcorp.com/event/mats/
LOCATION:Kentucky Expo Center\, 937 Phillips Lane\, Louisville\, KY\, 40209\, United States
END:VEVENT
BEGIN:VEVENT
DTSTART;VALUE=DATE:20230118
DTEND;VALUE=DATE:20230123
DTSTAMP:20260425T155925
CREATED:20230104T213916Z
LAST-MODIFIED:20230108T000934Z
UID:5638-1674000000-1674431999@elwellcorp.com
SUMMARY:Florida RV Supershow
DESCRIPTION:Timberline and Autoterm are coming to Tampa! This is a must see show for all RV and travel enthusiasts. Whether you’re an experienced RVer or just getting started\, the SuperShow is made for you! Offering educational seminars\, daily entertainment\, and the latest innovative RV products and accessories! Two booth exhibit halls are full of parts and accessories\, campgrounds and resorts\, tourism information\, towing supplies and many other products. Plus you’ll find all types of RVs from small travel trailers to bus conversion luxury motorhomes.
URL:https://elwellcorp.com/event/florida-rv-supershow/
LOCATION:Florida State Fairgrounds\, 4800 US Highway 301 North\, Tampa\, FL\, 33610\, United States
END:VEVENT
END:VCALENDAR