BEGIN:VCALENDAR
VERSION:2.0
PRODID:-//Elwell Corporation - ECPv6.15.20//NONSGML v1.0//EN
CALSCALE:GREGORIAN
METHOD:PUBLISH
X-WR-CALNAME:Elwell Corporation
X-ORIGINAL-URL:https://elwellcorp.com
X-WR-CALDESC:Events for Elwell Corporation
REFRESH-INTERVAL;VALUE=DURATION:PT1H
X-Robots-Tag:noindex
X-PUBLISHED-TTL:PT1H
BEGIN:VTIMEZONE
TZID:UTC
BEGIN:STANDARD
TZOFFSETFROM:+0000
TZOFFSETTO:+0000
TZNAME:UTC
DTSTART:20220101T000000
END:STANDARD
END:VTIMEZONE
BEGIN:VEVENT
DTSTART;VALUE=DATE:20230902
DTEND;VALUE=DATE:20230904
DTSTAMP:20260425T211000
CREATED:20230108T041617Z
LAST-MODIFIED:20230108T041815Z
UID:5659-1693612800-1693785599@elwellcorp.com
SUMMARY:Adventure Van Expo
DESCRIPTION:Come out and see Timberline and Autoterm at the Adventure Van Expo in Ogden! The show will feature built-out Mercedes Sprinters (mostly) 4×4 rigs\, accessories\, and more. Meet the builders\, network with vanlifers and check out all kinds of cool workmanship.
URL:https://elwellcorp.com/event/adventure-van-expo-7/
LOCATION:Golden Spike Event Center\, 1000 North 1200 West\, Ogden\, UT\, 84404\, United States
END:VEVENT
BEGIN:VEVENT
DTSTART;VALUE=DATE:20230913
DTEND;VALUE=DATE:20230918
DTSTAMP:20260425T211000
CREATED:20220714T163516Z
LAST-MODIFIED:20230108T042013Z
UID:4991-1694563200-1694995199@elwellcorp.com
SUMMARY:Hershey RV Show
DESCRIPTION:Come and Visit the Timberline booth at the 2023 Hershey RV Show. See more than 1\,400 RVs from 40 manufacturers at the 54th Annual America’s Largest RV Show®\, September 13-17\, 2023 at the Giant Center in Hershey\, Pennsylvania. The show is THE place to shop and compare new RVs\, find the latest accessories\, upgrades\, campgrounds\, vacation destinations and related products.
URL:https://elwellcorp.com/event/hershey-rv-show/
LOCATION:Giant Center\, 550 W. Hersheypark Drive\, Hershey\, PA\, 17033\, United States
END:VEVENT
BEGIN:VEVENT
DTSTART;VALUE=DATE:20230922
DTEND;VALUE=DATE:20230925
DTSTAMP:20260425T211000
CREATED:20230108T043125Z
LAST-MODIFIED:20230108T043125Z
UID:5665-1695340800-1695599999@elwellcorp.com
SUMMARY:Rocky Mountain Adventure Rally
DESCRIPTION:Find Timberline at the Rocky Mountain Adventure Rally! This years rally offers a wide range of vendors and lecture series\, which will provide educational and informative classes from Nature Photography to traveling solo. The sponsored trainings will cover topics directly aimed at the Mercedes Sprinter Chassis\, not to mention\, there will be access to an off-road driving course to better prepare you out in the wild.
URL:https://elwellcorp.com/event/rocky-mountain-adventure-rally/
LOCATION:CA
END:VEVENT
BEGIN:VEVENT
DTSTART;VALUE=DATE:20230925
DTEND;VALUE=DATE:20230928
DTSTAMP:20260425T211000
CREATED:20230904T175520Z
LAST-MODIFIED:20230904T175706Z
UID:5895-1695600000-1695859199@elwellcorp.com
SUMMARY:Elkhart RV Dealer Open House
DESCRIPTION:This 3-day\, dealer-only show features a huge selection of new RVs from more than 30 of the nation’s top RV manufacturers. Manufacturer representatives will be on hand to showcase the newest RV models\, floor plans and decor.
URL:https://elwellcorp.com/event/elkhart-rv-dealer-open-house/
LOCATION:Elkhart\, IN
END:VEVENT
END:VCALENDAR