BEGIN:VCALENDAR
VERSION:2.0
PRODID:-//Elwell Corporation - ECPv6.15.20//NONSGML v1.0//EN
CALSCALE:GREGORIAN
METHOD:PUBLISH
X-WR-CALNAME:Elwell Corporation
X-ORIGINAL-URL:https://elwellcorp.com
X-WR-CALDESC:Events for Elwell Corporation
REFRESH-INTERVAL;VALUE=DURATION:PT1H
X-Robots-Tag:noindex
X-PUBLISHED-TTL:PT1H
BEGIN:VTIMEZONE
TZID:America/Los_Angeles
BEGIN:DAYLIGHT
TZOFFSETFROM:-0800
TZOFFSETTO:-0700
TZNAME:PDT
DTSTART:20230312T100000
END:DAYLIGHT
BEGIN:STANDARD
TZOFFSETFROM:-0700
TZOFFSETTO:-0800
TZNAME:PST
DTSTART:20231105T090000
END:STANDARD
BEGIN:DAYLIGHT
TZOFFSETFROM:-0800
TZOFFSETTO:-0700
TZNAME:PDT
DTSTART:20240310T100000
END:DAYLIGHT
BEGIN:STANDARD
TZOFFSETFROM:-0700
TZOFFSETTO:-0800
TZNAME:PST
DTSTART:20241103T090000
END:STANDARD
BEGIN:DAYLIGHT
TZOFFSETFROM:-0800
TZOFFSETTO:-0700
TZNAME:PDT
DTSTART:20250309T100000
END:DAYLIGHT
BEGIN:STANDARD
TZOFFSETFROM:-0700
TZOFFSETTO:-0800
TZNAME:PST
DTSTART:20251102T090000
END:STANDARD
END:VTIMEZONE
BEGIN:VEVENT
DTSTART;TZID=America/Los_Angeles:20241019T100000
DTEND;TZID=America/Los_Angeles:20241020T150000
DTSTAMP:20260424T221141
CREATED:20240429T231930Z
LAST-MODIFIED:20240429T231930Z
UID:6116-1729332000-1729436400@elwellcorp.com
SUMMARY:Adventure Van Expo
DESCRIPTION:Visit the Timberline and Autoterm booth at the Adventure Van Expo in beautiful Big Bear\, CA.\n  \nThe show will feature built-out Mercedes Sprinters (mostly) 4×4 rigs\, accessories\, and more. Come out and meet the builders\, network with vanlifers\, check out all kinds of cool workmanship and things maybe you’ve never seen\, learn something new. Vendors will be set up with accessories to buy for your van or rig. There will be talks on topics like solar.\n  \nhttps://adventurevanexpo.com
URL:https://elwellcorp.com/event/adventure-van-expo-14/
LOCATION:Big Bear Lake\, 630 Bartlett Road\, Big Bear\, CA\, 92314\, United States
END:VEVENT
BEGIN:VEVENT
DTSTART;TZID=America/Los_Angeles:20241026T100000
DTEND;TZID=America/Los_Angeles:20241027T150000
DTSTAMP:20260424T221141
CREATED:20240429T232145Z
LAST-MODIFIED:20240429T232145Z
UID:6118-1729936800-1730041200@elwellcorp.com
SUMMARY:Adventure Van Expo
DESCRIPTION:Visit the Timberline and Autoterm booth at the Adventure Van Expo in Ventura\, CA.\n  \nOpen house vans\, DIY contest\, live music\, food trucks and camping!\n  \nCome join us on October 26-27 for a family-friendly weekend open to all ages celebrating the van life community and the opportunity to view over 50 van vendors.\n  \nIn addition to all of the great van builds the event will feature live music\, food\, and local brews all weekend long. And those looking to show off their custom builds are encouraged to sign up for the DIY Contest where they will have their rigs viewed by hundreds of event goers and rated by van build experts.\n  \nhttps://adventurevanexpo.com
URL:https://elwellcorp.com/event/adventure-van-expo-15/
LOCATION:Venture County Fairgrounds\, 10 W Harbor Blvd\, Ventura\, CA\, 93001\, United States
END:VEVENT
END:VCALENDAR